BEGIN:VCALENDAR
VERSION:2.0
PRODID:-//Kendra Borgen - ECPv6.15.20//NONSGML v1.0//EN
CALSCALE:GREGORIAN
METHOD:PUBLISH
X-ORIGINAL-URL:https://www.kendraborgen.com
X-WR-CALDESC:Events for Kendra Borgen
REFRESH-INTERVAL;VALUE=DURATION:PT1H
X-Robots-Tag:noindex
X-PUBLISHED-TTL:PT1H
BEGIN:VTIMEZONE
TZID:Europe/Amsterdam
BEGIN:DAYLIGHT
TZOFFSETFROM:+0100
TZOFFSETTO:+0200
TZNAME:CEST
DTSTART:20250330T010000
END:DAYLIGHT
BEGIN:STANDARD
TZOFFSETFROM:+0200
TZOFFSETTO:+0100
TZNAME:CET
DTSTART:20251026T010000
END:STANDARD
BEGIN:DAYLIGHT
TZOFFSETFROM:+0100
TZOFFSETTO:+0200
TZNAME:CEST
DTSTART:20260329T010000
END:DAYLIGHT
BEGIN:STANDARD
TZOFFSETFROM:+0200
TZOFFSETTO:+0100
TZNAME:CET
DTSTART:20261025T010000
END:STANDARD
BEGIN:DAYLIGHT
TZOFFSETFROM:+0100
TZOFFSETTO:+0200
TZNAME:CEST
DTSTART:20270328T010000
END:DAYLIGHT
BEGIN:STANDARD
TZOFFSETFROM:+0200
TZOFFSETTO:+0100
TZNAME:CET
DTSTART:20271031T010000
END:STANDARD
END:VTIMEZONE
BEGIN:VEVENT
DTSTART;TZID=Europe/Amsterdam:20260406T193000
DTEND;TZID=Europe/Amsterdam:20260406T220000
DTSTAMP:20260419T160235
CREATED:20260217T111905Z
LAST-MODIFIED:20260217T222657Z
UID:1339-1775503800-1775512800@www.kendraborgen.com
SUMMARY:Monday Night Laughs - April 6th: Amsterdam Magic Show
DESCRIPTION:⭐Amsterdam Magic Show take over⭐ \n🎩 Not 1 but 4 Magicians! Amsterdam Magic Show are taking over the Monday Night Laughs for 1 night only! \n**MAGIC: For some it’s just a word…for us it’s a way of life.** \n✨ Take your friends\, your loved ones\, or yourself on our magical ride and forget the world outside (for one crazy night). We are an ensemble of magicians and illusionists from all across the globe. \nBut each show is different and unique since we invite the best international and comedy acts to perform with us. So step into our magical world of ‘Huh’ and have an unforgettable evening of entertainment. \nIt’s Amsterdam Magic Showtime! \nFeatured Magicians\n@fritwithaz\n@katherinemagician\n@magician.soumyabrata\n@sleightknight\n@amsterdammagic
URL:https://www.kendraborgen.com/show/monday-night-laughs-april-6th-amsterdam-magic-show/
LOCATION:De Prael\, Oudezijds Armsteeg 26\, Amsterdam\, Noord-Holland\, 1012GP\, Netherlands
CATEGORIES:Monday Night Laughs
END:VEVENT
END:VCALENDAR