BEGIN:VCALENDAR
VERSION:2.0
PRODID:-//Kendra Borgen - ECPv6.15.20//NONSGML v1.0//EN
CALSCALE:GREGORIAN
METHOD:PUBLISH
X-WR-CALNAME:Kendra Borgen
X-ORIGINAL-URL:https://www.kendraborgen.com
X-WR-CALDESC:Events for Kendra Borgen
REFRESH-INTERVAL;VALUE=DURATION:PT1H
X-Robots-Tag:noindex
X-PUBLISHED-TTL:PT1H
BEGIN:VTIMEZONE
TZID:Europe/Amsterdam
BEGIN:DAYLIGHT
TZOFFSETFROM:+0100
TZOFFSETTO:+0200
TZNAME:CEST
DTSTART:20250330T010000
END:DAYLIGHT
BEGIN:STANDARD
TZOFFSETFROM:+0200
TZOFFSETTO:+0100
TZNAME:CET
DTSTART:20251026T010000
END:STANDARD
BEGIN:DAYLIGHT
TZOFFSETFROM:+0100
TZOFFSETTO:+0200
TZNAME:CEST
DTSTART:20260329T010000
END:DAYLIGHT
BEGIN:STANDARD
TZOFFSETFROM:+0200
TZOFFSETTO:+0100
TZNAME:CET
DTSTART:20261025T010000
END:STANDARD
BEGIN:DAYLIGHT
TZOFFSETFROM:+0100
TZOFFSETTO:+0200
TZNAME:CEST
DTSTART:20270328T010000
END:DAYLIGHT
BEGIN:STANDARD
TZOFFSETFROM:+0200
TZOFFSETTO:+0100
TZNAME:CET
DTSTART:20271031T010000
END:STANDARD
END:VTIMEZONE
BEGIN:VEVENT
DTSTART;TZID=Europe/Amsterdam:20260223T193000
DTEND;TZID=Europe/Amsterdam:20260223T220000
DTSTAMP:20260423T162902
CREATED:20260114T192813Z
LAST-MODIFIED:20260114T193003Z
UID:930-1771875000-1771884000@www.kendraborgen.com
SUMMARY:Monday Night Laughs - February 23rd
DESCRIPTION:February 23rd \n🎭 GONG SHOW at Monday Night Laughs 🎭 \nReady to decide who lives or dies on stage? \nJoin us for our legendary Gong Show where YOU control the fate of brave (or foolish) comedians battling for a spot on a future Monday Night Laughs lineup. \nHow it works: \n\nComedians get 5 minutes to make you laugh\nThree gongs from the audience and they’re GONE\nYou decide who survives and who wins\nThe winner earns a coveted spot on an upcoming show\n\nWill they kill or will they bomb? Will you show mercy or unleash the gong? \nGrab your friends. Bring your judgment. It’s going to be brutal. \nMonday nights just got a whole lot more interesting. \n 
URL:https://www.kendraborgen.com/show/monday-night-laughs-february-23rd/
LOCATION:De Prael\, Oudezijds Armsteeg 26\, Amsterdam\, Noord-Holland\, 1012GP\, Netherlands
CATEGORIES:Monday Night Laughs
END:VEVENT
END:VCALENDAR