BEGIN:VCALENDAR
VERSION:2.0
PRODID:-//Kendra Borgen - ECPv6.15.20//NONSGML v1.0//EN
CALSCALE:GREGORIAN
METHOD:PUBLISH
X-WR-CALNAME:Kendra Borgen
X-ORIGINAL-URL:https://www.kendraborgen.com
X-WR-CALDESC:Events for Kendra Borgen
REFRESH-INTERVAL;VALUE=DURATION:PT1H
X-Robots-Tag:noindex
X-PUBLISHED-TTL:PT1H
BEGIN:VTIMEZONE
TZID:Europe/Amsterdam
BEGIN:DAYLIGHT
TZOFFSETFROM:+0100
TZOFFSETTO:+0200
TZNAME:CEST
DTSTART:20250330T010000
END:DAYLIGHT
BEGIN:STANDARD
TZOFFSETFROM:+0200
TZOFFSETTO:+0100
TZNAME:CET
DTSTART:20251026T010000
END:STANDARD
BEGIN:DAYLIGHT
TZOFFSETFROM:+0100
TZOFFSETTO:+0200
TZNAME:CEST
DTSTART:20260329T010000
END:DAYLIGHT
BEGIN:STANDARD
TZOFFSETFROM:+0200
TZOFFSETTO:+0100
TZNAME:CET
DTSTART:20261025T010000
END:STANDARD
BEGIN:DAYLIGHT
TZOFFSETFROM:+0100
TZOFFSETTO:+0200
TZNAME:CEST
DTSTART:20270328T010000
END:DAYLIGHT
BEGIN:STANDARD
TZOFFSETFROM:+0200
TZOFFSETTO:+0100
TZNAME:CET
DTSTART:20271031T010000
END:STANDARD
END:VTIMEZONE
BEGIN:VEVENT
DTSTART;TZID=Europe/Amsterdam:20260306T200000
DTEND;TZID=Europe/Amsterdam:20260306T200000
DTSTAMP:20260423T134405
CREATED:20260217T213951Z
LAST-MODIFIED:20260217T214209Z
UID:1363-1772827200-1772827200@www.kendraborgen.com
SUMMARY:Griffioen Comedy Club
DESCRIPTION:Fancy a hilarious night out?\nVisit the next edition of the Griffioen Comedy Club at theatre VU Griffioen  Friday March 6th (2026). \nSetting: one stage\, five stand-up comedians. One by one they show who they are! Who has the act with the wittiest jokes and who steals your heart? The acts are in English so everyone can enjoy the show. \nLine-up Friday March 6th\nKendra Borgen\nAmerican-born but moved to Amsterdam in 2004. Come hear Kendra’s stories about her journey from the hilariously rugged Alaskan upbringing to navigating the chaos of Amsterdam’s canals. \nAdam Fields\nNo topic is safe for Adam Fields: his routines go from political to plain stupid and everything in between. His style? He describes it as a curious mix of sophisticated English and neurotic Jew. Come and find out what that looks like! \nBarney Rivera\nA Mexican and an American whose presence brings a unique world view with Latino flavor that has a huge laugh payoff: a stage favorite and a must see! Previously chosen as as the best next generation comedian at the Singapore Comedy Festival. After performing around the world in over 20 countries\, he takes the stage in Amsterdam at Griffioen!
URL:https://www.kendraborgen.com/show/griffioen-comedy-club/
END:VEVENT
END:VCALENDAR