BEGIN:VCALENDAR
VERSION:2.0
PRODID:-//Kendra Borgen - ECPv6.15.20//NONSGML v1.0//EN
CALSCALE:GREGORIAN
METHOD:PUBLISH
X-WR-CALNAME:Kendra Borgen
X-ORIGINAL-URL:https://www.kendraborgen.com
X-WR-CALDESC:Events for Kendra Borgen
REFRESH-INTERVAL;VALUE=DURATION:PT1H
X-Robots-Tag:noindex
X-PUBLISHED-TTL:PT1H
BEGIN:VTIMEZONE
TZID:Europe/Amsterdam
BEGIN:DAYLIGHT
TZOFFSETFROM:+0100
TZOFFSETTO:+0200
TZNAME:CEST
DTSTART:20250330T010000
END:DAYLIGHT
BEGIN:STANDARD
TZOFFSETFROM:+0200
TZOFFSETTO:+0100
TZNAME:CET
DTSTART:20251026T010000
END:STANDARD
BEGIN:DAYLIGHT
TZOFFSETFROM:+0100
TZOFFSETTO:+0200
TZNAME:CEST
DTSTART:20260329T010000
END:DAYLIGHT
BEGIN:STANDARD
TZOFFSETFROM:+0200
TZOFFSETTO:+0100
TZNAME:CET
DTSTART:20261025T010000
END:STANDARD
BEGIN:DAYLIGHT
TZOFFSETFROM:+0100
TZOFFSETTO:+0200
TZNAME:CEST
DTSTART:20270328T010000
END:DAYLIGHT
BEGIN:STANDARD
TZOFFSETFROM:+0200
TZOFFSETTO:+0100
TZNAME:CET
DTSTART:20271031T010000
END:STANDARD
END:VTIMEZONE
BEGIN:VEVENT
DTSTART;TZID=Europe/Amsterdam:20260112T193000
DTEND;TZID=Europe/Amsterdam:20260112T220000
DTSTAMP:20260423T222636
CREATED:20260104T214208Z
LAST-MODIFIED:20260108T221623Z
UID:228-1768246200-1768255200@www.kendraborgen.com
SUMMARY:Monday Night Laughs - January 12th 2026
DESCRIPTION:Headliner – Adam Bloom (UK): \n\n\nis undoubtedly one of Britain’s most original and inventive stand-up comedians. He has performed eight sell-out solo runs at The Edinburgh Festival (1996 – 2024) and has also performed a 29 date\, sell-out tour of The UK. In 1999\, Adam performed a sell-out solo run at the 13th Melbourne International Comedy Festival\, breaking box-office records for any comedian’s first appearance there. In 2004\, Adam was part of the Just For Laughs Comedy Tour\, where he performed to over 42\,000 people in 17 cities across Canada. He has also performed at Just For Laughs comedy festival in Montreal four times (1998 – 2013). \nAdam performed as part of the comedy night at Banksy’s Dismaland. He has also provided addition material for 90 other people\, making him one of the country’s most prolific comedy writers. Some of the people Adam has written for include an Oscar & BAFTA Nominee\, a former Perrier Winner (Main Award) and four comedians who’ve performed at between one and eight Royal Variety Performances. Adam uses his writing skills to provide bespoke material for every corporate event he performs at\, including hosting award ceremonies. He is also an honorary member of The Magic Circle based on his ability as a close-up magician and creator of close-up magic routines. Adam often performs close-up magic at corporate events during the drink receptions before his shows. \nIn August 2023\, Adam wrote ‘Finding Your Comic Genius’\, an advanced book on stand-up comedy\, soon reaching #1 Best-seller within its category in three countries. \nTV Credits Include – \nMock The Week (BBC2) \nNever Mind The Buzzcocks (BBC2) \nRussell Howard’s Good News (BBC3) \nThe Stand-up Show (3 Series) (BBC2) \nEdinburgh Nights (3 Series) (BBC2) \nThe Comedy Store (7 Series) (Comedy Central) \nPress – \n“He’s been one of my favourite stand-ups for about ten years. Bloom not only has meticulous\, brilliant lines\, but also an intense and fragile honesty” – Ricky Gervais \n“He makes me laugh out-loud\, I can’t wait to see him live” – Sir Ian McKellen \nVids: \nBrighton Comedy Festival Gala- https://youtu.be/opSvj9i1u6g  Just For Laughs Gala – https://youtu.be/BJC-_rG-OCE \n  \nSupport Acts – Nic Chopin (UK)
URL:https://www.kendraborgen.com/show/monday-night-laughs/
LOCATION:De Prael\, Oudezijds Armsteeg 26\, Amsterdam\, Noord-Holland\, 1012GP\, Netherlands
CATEGORIES:Monday Night Laughs
END:VEVENT
END:VCALENDAR