BEGIN:VCALENDAR
VERSION:2.0
PRODID:-//Kendra Borgen - ECPv6.15.20//NONSGML v1.0//EN
CALSCALE:GREGORIAN
METHOD:PUBLISH
X-ORIGINAL-URL:https://www.kendraborgen.com
X-WR-CALDESC:Events for Kendra Borgen
REFRESH-INTERVAL;VALUE=DURATION:PT1H
X-Robots-Tag:noindex
X-PUBLISHED-TTL:PT1H
BEGIN:VTIMEZONE
TZID:Europe/Amsterdam
BEGIN:DAYLIGHT
TZOFFSETFROM:+0100
TZOFFSETTO:+0200
TZNAME:CEST
DTSTART:20250330T010000
END:DAYLIGHT
BEGIN:STANDARD
TZOFFSETFROM:+0200
TZOFFSETTO:+0100
TZNAME:CET
DTSTART:20251026T010000
END:STANDARD
BEGIN:DAYLIGHT
TZOFFSETFROM:+0100
TZOFFSETTO:+0200
TZNAME:CEST
DTSTART:20260329T010000
END:DAYLIGHT
BEGIN:STANDARD
TZOFFSETFROM:+0200
TZOFFSETTO:+0100
TZNAME:CET
DTSTART:20261025T010000
END:STANDARD
BEGIN:DAYLIGHT
TZOFFSETFROM:+0100
TZOFFSETTO:+0200
TZNAME:CEST
DTSTART:20270328T010000
END:DAYLIGHT
BEGIN:STANDARD
TZOFFSETFROM:+0200
TZOFFSETTO:+0100
TZNAME:CET
DTSTART:20271031T010000
END:STANDARD
END:VTIMEZONE
BEGIN:VEVENT
DTSTART;TZID=Europe/Amsterdam:20260126T193000
DTEND;TZID=Europe/Amsterdam:20260126T220000
DTSTAMP:20260423T210350
CREATED:20260104T214920Z
LAST-MODIFIED:20260122T102241Z
UID:238-1769455800-1769464800@www.kendraborgen.com
SUMMARY:Monday Night Laughs - January 26th
DESCRIPTION:Headliner Jessie Nixon is a fast-rising Bristolian comedian with a c-sharp writing\, and a brilliantly offbeat charm. Her five-star\, award-winning 2025 Edinburgh Fringe show cemented her status as one of the most exciting new voices in UK comedy. \nFresh from a five-star\, award-winning run at the 2025 Edinburgh Fringe\, she’s been nominated for Ish Comedy Awards Best Newcomer and the Chortle Comedians’ Comedian Award. Jessie’s past accolades include winning the chortle hotshots 2025\, Funny Women Stage Awards (3rd runner up) BBC New Comedian of the Year Regional Finalist\, and Leicester Mercury Comedian of the Year \nShe plays top clubs across the UK and has supported Fern Brady\, Lou Sanders\, Helen Bauer and Kate Butch on tour. \nSupport Acts:\nLocal Legend Fedor Ikelaar was born in Amsterdam\, raised in France and lived in half a dozen countries. Which reflects on stage as he takes you on a laughter-filled\, insane journey across the globe. With his unique perspective he manages to make his fumbling abroad in exotic places highly relatable and enjoyable. \nFedor has performed in over 40 countries\, appeared at a long list of international comedy festivals\, and was featured on the BBC. When he isn’t doing comedy he is working with animal shelters in The Netherlands\, Bulgaria and Ukraine. \n“A truly international comedic talent with the ability to land anywhere in the world and make a room roar with laughter.” – Richard Walker (UK) BBC Prodcuer \nTalent spot: Summer gong show winner Alex Fletcher is a South African non-binary comedian whose passion lies in gaining all that sweet sweet validation they never got as a child
URL:https://www.kendraborgen.com/show/monday-night-laughs-january-26th/
LOCATION:De Prael\, Oudezijds Armsteeg 26\, Amsterdam\, Noord-Holland\, 1012GP\, Netherlands
CATEGORIES:Monday Night Laughs
END:VEVENT
END:VCALENDAR